BEGIN:VCALENDAR
VERSION:2.0
PRODID:-//Museo della Magia - ECPv6.15.20//NONSGML v1.0//EN
CALSCALE:GREGORIAN
METHOD:PUBLISH
X-WR-CALNAME:Museo della Magia
X-ORIGINAL-URL:https://museodellamagia.it
X-WR-CALDESC:Eventi per Museo della Magia
REFRESH-INTERVAL;VALUE=DURATION:PT1H
X-Robots-Tag:noindex
X-PUBLISHED-TTL:PT1H
BEGIN:VTIMEZONE
TZID:Europe/Rome
BEGIN:DAYLIGHT
TZOFFSETFROM:+0100
TZOFFSETTO:+0200
TZNAME:CEST
DTSTART:20250330T010000
END:DAYLIGHT
BEGIN:STANDARD
TZOFFSETFROM:+0200
TZOFFSETTO:+0100
TZNAME:CET
DTSTART:20251026T010000
END:STANDARD
BEGIN:DAYLIGHT
TZOFFSETFROM:+0100
TZOFFSETTO:+0200
TZNAME:CEST
DTSTART:20260329T010000
END:DAYLIGHT
BEGIN:STANDARD
TZOFFSETFROM:+0200
TZOFFSETTO:+0100
TZNAME:CET
DTSTART:20261025T010000
END:STANDARD
BEGIN:DAYLIGHT
TZOFFSETFROM:+0100
TZOFFSETTO:+0200
TZNAME:CEST
DTSTART:20270328T010000
END:DAYLIGHT
BEGIN:STANDARD
TZOFFSETFROM:+0200
TZOFFSETTO:+0100
TZNAME:CET
DTSTART:20271031T010000
END:STANDARD
END:VTIMEZONE
BEGIN:VEVENT
DTSTART;TZID=Europe/Rome:20260421T093000
DTEND;TZID=Europe/Rome:20260421T150000
DTSTAMP:20260421T183832
CREATED:20251112T094917Z
LAST-MODIFIED:20251112T094917Z
UID:10000096-1776763800-1776783600@museodellamagia.it
SUMMARY:Gita scolastica
DESCRIPTION:I.C. Verzuolo Classi 1° di Falicetto\, Lagnasco e Verzuolo N. 45 + 6
URL:https://museodellamagia.it/event/gita-scolastica-24/
LOCATION:MUSEO DELLA MAGIA – CHERASCO (CN) – ITALIA\, VIA CAVOUR 33/35\, CHERASCO\, CN\, 12062\, Italy
CATEGORIES:VISITE PRENOTATE
END:VEVENT
BEGIN:VEVENT
DTSTART;TZID=Europe/Rome:20260421T093000
DTEND;TZID=Europe/Rome:20260421T153000
DTSTAMP:20260421T183832
CREATED:20251021T173103Z
LAST-MODIFIED:20251022T100944Z
UID:10000078-1776763800-1776785400@museodellamagia.it
SUMMARY:Gita scolastica
DESCRIPTION:Scuola primaria Boves (Cn) Classi 1°A e 1°B – N. 38 +4
URL:https://museodellamagia.it/event/gita-scolastica-16/
LOCATION:MUSEO DELLA MAGIA – CHERASCO (CN) – ITALIA\, VIA CAVOUR 33/35\, CHERASCO\, CN\, 12062\, Italy
CATEGORIES:VISITE PRENOTATE
END:VEVENT
BEGIN:VEVENT
DTSTART;TZID=Europe/Rome:20260423T093000
DTEND;TZID=Europe/Rome:20260423T153000
DTSTAMP:20260421T183832
CREATED:20251020T094308Z
LAST-MODIFIED:20260310T162736Z
UID:10000075-1776936600-1776958200@museodellamagia.it
SUMMARY:Gita scolastica
DESCRIPTION:Istituto Comprensivo Pinerolo 3 classi 1° A\, 2 A°\, 2 B° N. 42 (4) + 8
URL:https://museodellamagia.it/event/gita-scolastica-opzione-5/
LOCATION:MUSEO DELLA MAGIA – CHERASCO (CN) – ITALIA\, VIA CAVOUR 33/35\, CHERASCO\, CN\, 12062\, Italy
CATEGORIES:VISITE PRENOTATE
END:VEVENT
BEGIN:VEVENT
DTSTART;TZID=Europe/Rome:20260424T100000
DTEND;TZID=Europe/Rome:20260424T160000
DTSTAMP:20260421T183832
CREATED:20260122T132000Z
LAST-MODIFIED:20260122T132000Z
UID:10000178-1777024800-1777046400@museodellamagia.it
SUMMARY:Gita scolastica Agenzia VIC
DESCRIPTION:Scuola Primaria Levi N. 73 (10) + 17
URL:https://museodellamagia.it/event/gita-scolastica-agenzia-vic-3/
LOCATION:MUSEO DELLA MAGIA – CHERASCO (CN) – ITALIA\, VIA CAVOUR 33/35\, CHERASCO\, CN\, 12062\, Italy
CATEGORIES:VISITE PRENOTATE
END:VEVENT
BEGIN:VEVENT
DTSTART;TZID=Europe/Rome:20260425T150000
DTEND;TZID=Europe/Rome:20260425T183000
DTSTAMP:20260421T183832
CREATED:20251224T005203Z
LAST-MODIFIED:20260309T195322Z
UID:10000153-1777129200-1777141800@museodellamagia.it
SUMMARY:ACQUISTA BIGLIETTO 25/04
DESCRIPTION:Pagamento Carta di Credito o PayPal.\nIl biglietto BAMBINO è dedicato a:\n– bambini fra 4 e 10 anni\n– residenti a Cherasco\n– accompagnatori disabili\nNon facciamo parte del gruppo “ABBONAMENTO MUSEI”\nEntrano gratuitamente:\n– bambini di età inferiore a 4 anni\n– persone portatrici di handicap\n– i giornalisti iscritti all’Ordine\n– guide turistiche abilitate\, quando accompagnano un gruppo\n– ufficiali e militari in servizio\n– maghi iscritti FISM\n\n\n\nOrari per spettacoli di magia (dimostrazioni magiche)\nIl museo offre una programmazione con orari degli spettacoli durante la visita al museo.\nSabato: 15:30 e 16:45\nDomenica: mattino 11:00 e 12:00 – pomeriggio 15:30 e 16:45\nLaboratorio di magia per bambini dai 5 ai 10 anni\nOrario Per ora solo domenica ore 17:15 – Durata: 30 minuti\nModalità: Il museo offrirà ad ogni bambino il materiale per l’esecuzione dei giochi di magia\n\n\n\nBuon acquisto… Ti aspettiamo… Mago Sales
URL:https://museodellamagia.it/event/acquista-regala-biglietto-25-04/
LOCATION:MUSEO DELLA MAGIA – CHERASCO (CN) – ITALIA\, VIA CAVOUR 33/35\, CHERASCO\, CN\, 12062\, Italy
CATEGORIES:SELEZIONA LA DATA PER ACQUISTARE o REGALARE I BIGLIETTI
END:VEVENT
BEGIN:VEVENT
DTSTART;TZID=Europe/Rome:20260426T100000
DTEND;TZID=Europe/Rome:20260426T183000
DTSTAMP:20260421T183832
CREATED:20251224T005158Z
LAST-MODIFIED:20260309T195511Z
UID:10000154-1777197600-1777228200@museodellamagia.it
SUMMARY:ACQUISTA BIGLIETTO 26/04
DESCRIPTION:Pagamento Carta di Credito o PayPal.\nIl biglietto BAMBINO è dedicato a:\n– bambini fra 4 e 10 anni\n– residenti a Cherasco\n– accompagnatori disabili\nNon facciamo parte del gruppo “ABBONAMENTO MUSEI”\nEntrano gratuitamente:\n– bambini di età inferiore a 4 anni\n– persone portatrici di handicap\n– i giornalisti iscritti all’Ordine\n– guide turistiche abilitate\, quando accompagnano un gruppo\n– ufficiali e militari in servizio\n– maghi iscritti FISM\n\n\n\nOrari per spettacoli di magia (dimostrazioni magiche)\nIl museo offre una programmazione con orari degli spettacoli durante la visita al museo.\nSabato: 15:30 e 16:45\nDomenica: mattino 11:00 e 12:00 – pomeriggio 15:30 e 16:45\nLaboratorio di magia per bambini dai 5 ai 10 anni\nOrario Per ora solo domenica ore 17:15 – Durata: 30 minuti\nModalità: Il museo offrirà ad ogni bambino il materiale per l’esecuzione dei giochi di magia\n\n\n\nBuon acquisto… Ti aspettiamo… Mago Sales
URL:https://museodellamagia.it/event/acquista-regala-biglietto-26-04/
LOCATION:MUSEO DELLA MAGIA – CHERASCO (CN) – ITALIA\, VIA CAVOUR 33/35\, CHERASCO\, CN\, 12062\, Italy
CATEGORIES:SELEZIONA LA DATA PER ACQUISTARE o REGALARE I BIGLIETTI
END:VEVENT
BEGIN:VEVENT
DTSTART;TZID=Europe/Rome:20260428T093000
DTEND;TZID=Europe/Rome:20260428T150000
DTSTAMP:20260421T183832
CREATED:20260202T113121Z
LAST-MODIFIED:20260217T110312Z
UID:10000183-1777368600-1777388400@museodellamagia.it
SUMMARY:Gita scolastica
DESCRIPTION:Scuola infanzia Madre Mazzarello Asti N. 40/44 + 4
URL:https://museodellamagia.it/event/gita-scolastica-32/
LOCATION:MUSEO DELLA MAGIA – CHERASCO (CN) – ITALIA\, VIA CAVOUR 33/35\, CHERASCO\, CN\, 12062\, Italy
CATEGORIES:VISITE PRENOTATE
END:VEVENT
BEGIN:VEVENT
DTSTART;TZID=Europe/Rome:20260428T100000
DTEND;TZID=Europe/Rome:20260428T153000
DTSTAMP:20260421T183832
CREATED:20251108T131123Z
LAST-MODIFIED:20260120T114728Z
UID:10000094-1777370400-1777390200@museodellamagia.it
SUMMARY:Gita scolstica Agenzia V.I.C.
DESCRIPTION:Scuola infanzia via Bellardi Torino N. 49 (3) + 8
URL:https://museodellamagia.it/event/gita-scolstica-agenzia-v-i-c/
LOCATION:MUSEO DELLA MAGIA – CHERASCO (CN) – ITALIA\, VIA CAVOUR 33/35\, CHERASCO\, CN\, 12062\, Italy
CATEGORIES:VISITE PRENOTATE
END:VEVENT
BEGIN:VEVENT
DTSTART;TZID=Europe/Rome:20260429T093000
DTEND;TZID=Europe/Rome:20260429T143000
DTSTAMP:20260421T183832
CREATED:20251105T141323Z
LAST-MODIFIED:20251105T141323Z
UID:10000092-1777455000-1777473000@museodellamagia.it
SUMMARY:Gita scolastica V.I.C.
DESCRIPTION:Scuola Infanzia Candiolo (To) N. 72 (3) + 14
URL:https://museodellamagia.it/event/gita-scolastica-v-i-c-2/
LOCATION:MUSEO DELLA MAGIA – CHERASCO (CN) – ITALIA\, VIA CAVOUR 33/35\, CHERASCO\, CN\, 12062\, Italy
CATEGORIES:VISITE PRENOTATE
END:VEVENT
BEGIN:VEVENT
DTSTART;TZID=Europe/Rome:20260430T100000
DTEND;TZID=Europe/Rome:20260430T160000
DTSTAMP:20260421T183832
CREATED:20260403T091431Z
LAST-MODIFIED:20260403T091431Z
UID:10000197-1777543200-1777564800@museodellamagia.it
SUMMARY:Gita scolastica
DESCRIPTION:Spigno Monferrato N. 73 + 12
URL:https://museodellamagia.it/event/gita-scolastica-25/
LOCATION:MUSEO DELLA MAGIA – CHERASCO (CN) – ITALIA\, VIA CAVOUR 33/35\, CHERASCO\, CN\, 12062\, Italy
CATEGORIES:VISITE PRENOTATE
END:VEVENT
END:VCALENDAR